BEGIN:VCALENDAR
VERSION:2.0
PRODID:-//Intand Corporation//Tandem//EN
METHOD:PUBLISH
BEGIN:VEVENT
DTSTAMP:20260420T232500Z
DTSTART:20100215T190000Z
DTEND:20100215T210000Z
TRANSP:TRANSPARENT
PRIORITY:0
SUMMARY:High School Baseball
LOCATION:Littlefield Baseball Field
DESCRIPTION:Baseball vs. Brownfield (Scrimmage)\n\nGroups:\nLittlefield Hi
 gh School Baseball Boys JV\nLittlefield High School Baseball Boys Varsity\
 n\nSchools:\nLittlefield High School\n\nLocation:\nLittlefield Baseball Fi
 eld\n\n
URL;VALUE=URI:https://littlefieldisd.tandem.co/index.php?type=view&action=
 event&id=1267
CREATED:20091009T175508Z
LAST-MODIFIED:20091009T175508Z
UID:event-1267-littlefieldisd@intand.com
END:VEVENT
END:VCALENDAR
