BEGIN:VCALENDAR
VERSION:2.0
PRODID:-//Intand Corporation//Tandem//EN
METHOD:PUBLISH
BEGIN:VEVENT
DTSTAMP:20260420T232501Z
DTSTART:20100331T000000Z
DTEND:20100331T020000Z
TRANSP:TRANSPARENT
PRIORITY:0
SUMMARY:High School Baseball
LOCATION:Littlefield Baseball Field
DESCRIPTION:Baseball vs. Slaton\n\nGroups:\nLittlefield High School Baseba
 ll Boys JV\nLittlefield High School Baseball Boys Varsity\n\nSchools:\nLit
 tlefield High School\n\nLocation:\nLittlefield Baseball Field\n\n
URL;VALUE=URI:https://littlefieldisd.tandem.co/index.php?type=view&action=
 event&id=1280
CREATED:20091013T142608Z
LAST-MODIFIED:20091013T142608Z
UID:event-1280-littlefieldisd@intand.com
END:VEVENT
END:VCALENDAR
