BEGIN:VCALENDAR
VERSION:2.0
PRODID:-//Intand Corporation//Tandem//EN
METHOD:PUBLISH
BEGIN:VEVENT
DTSTAMP:20260420T232417Z
DTSTART:20100424T170000Z
DTEND:20100424T200000Z
TRANSP:TRANSPARENT
PRIORITY:0
SUMMARY:High School Baseball
LOCATION:Slaton H S
DESCRIPTION:Baseball at Slaton\n\nGroups:\nLittlefield High School Basebal
 l Boys JV\nLittlefield High School Baseball Boys Varsity\n\nSchools:\nLitt
 lefield High School\n\nLocation:\nSlaton H S\n\n
URL;VALUE=URI:https://littlefieldisd.tandem.co/index.php?type=view&action=
 event&id=1289
CREATED:20091013T144033Z
LAST-MODIFIED:20091013T144033Z
UID:event-1289-littlefieldisd@intand.com
END:VEVENT
END:VCALENDAR
