BEGIN:VCALENDAR
VERSION:2.0
PRODID:-//Intand Corporation//Tandem//EN
METHOD:PUBLISH
BEGIN:VEVENT
DTSTAMP:20260420T232813Z
DTSTART;VALUE=DATE:20100304
DTEND;VALUE=DATE:20100307
TRANSP:TRANSPARENT
PRIORITY:0
SUMMARY:High School Softball
LOCATION:Ralls H S
DESCRIPTION:Lady Rabbit Tournament\n\nSetup: TBD\nBreakdown: TBD\n\nDepart
 : TBD\nReturn: TBD\n\nGroups:\nLittlefield High School Softball Girls JV\n
 Littlefield High School Softball Varsity\n\nSchools:\nLittlefield High Sch
 ool\n\nLocation:\nRalls H S\n\n
URL;VALUE=URI:https://littlefieldisd.tandem.co/index.php?type=view&action=
 event&id=1321
CREATED:20091104T165115Z
LAST-MODIFIED:20091104T165115Z
UID:event-1321-littlefieldisd@intand.com
END:VEVENT
END:VCALENDAR
