BEGIN:VCALENDAR
VERSION:2.0
PRODID:-//Intand Corporation//Tandem//EN
METHOD:PUBLISH
BEGIN:VEVENT
DTSTAMP:20260420T232713Z
DTSTART:20100330T213000Z
DTEND:20100331T003000Z
TRANSP:TRANSPARENT
PRIORITY:0
SUMMARY:High School Softball
LOCATION:Littlefield High School Girls Softball Field
DESCRIPTION:Softball vs. Abernathy\n* District\n\nGroups:\nLittlefield Hig
 h School Softball Girls JV\nLittlefield High School Softball Varsity\n\nSc
 hools:\nLittlefield High School\n\nLocation:\nLittlefield High School Girl
 s Softball Field\n\n
URL;VALUE=URI:https://littlefieldisd.tandem.co/index.php?type=view&action=
 event&id=1326
CREATED:20091104T165449Z
LAST-MODIFIED:20091104T165449Z
UID:event-1326-littlefieldisd@intand.com
END:VEVENT
END:VCALENDAR
