BEGIN:VCALENDAR
VERSION:2.0
PRODID:-//Intand Corporation//Tandem//EN
METHOD:PUBLISH
BEGIN:VEVENT
DTSTAMP:20260420T232338Z
DTSTART:20101030T003000Z
DTEND:20101030T023000Z
TRANSP:TRANSPARENT
PRIORITY:0
SUMMARY:Wildcats at Friona
LOCATION:Friona H S
DESCRIPTION:Varsity Team *District Game\n\nGroups:\nLittlefield High Schoo
 l Football Varsity\n\nSchools:\nLittlefield High School\n\nLocation:\nFrio
 na H S\n\n
URL;VALUE=URI:https://littlefieldisd.tandem.co/index.php?type=view&action=
 event&id=1503
CREATED:20100608T203630Z
LAST-MODIFIED:20100608T203630Z
UID:event-1503-littlefieldisd@intand.com
END:VEVENT
END:VCALENDAR
