BEGIN:VCALENDAR
VERSION:2.0
PRODID:-//Intand Corporation//Tandem//EN
METHOD:PUBLISH
BEGIN:VEVENT
DTSTAMP:20260420T232721Z
DTSTART:20100916T220000Z
DTEND:20100917T020000Z
TRANSP:TRANSPARENT
PRIORITY:0
SUMMARY:7th & 8th at Muleshoe
LOCATION:Muleshoe H S
DESCRIPTION:Groups:\nLittlefield Junior High Football 7th Grade\nLittlefie
 ld Junior High Football 8th Grade\n\nSchools:\nLittlefield Junior High\n\n
 Location:\nMuleshoe H S\n\n
URL;VALUE=URI:https://littlefieldisd.tandem.co/index.php?type=view&action=
 event&id=1518
CREATED:20100608T205641Z
LAST-MODIFIED:20100608T205641Z
UID:event-1518-littlefieldisd@intand.com
END:VEVENT
END:VCALENDAR
