BEGIN:VCALENDAR
VERSION:2.0
PRODID:-//Intand Corporation//Tandem//EN
METHOD:PUBLISH
BEGIN:VEVENT
DTSTAMP:20260420T232551Z
DTSTART;VALUE=DATE:20100903
DTEND;VALUE=DATE:20100905
TRANSP:TRANSPARENT
PRIORITY:0
SUMMARY:Lamesa Volleyball Tourney
LOCATION:Lamesa H S
DESCRIPTION:JV Only\n\nGroups:\nLittlefield High School Volleyball JV\n\nS
 chools:\nLittlefield High School\n\nLocation:\nLamesa H S\n\n
URL;VALUE=URI:https://littlefieldisd.tandem.co/index.php?type=view&action=
 event&id=1583
CREATED:20100817T150655Z
LAST-MODIFIED:20100817T150655Z
UID:event-1583-littlefieldisd@intand.com
END:VEVENT
END:VCALENDAR
