BEGIN:VCALENDAR
VERSION:2.0
PRODID:-//Intand Corporation//Tandem//EN
METHOD:PUBLISH
BEGIN:VEVENT
DTSTAMP:20260420T232557Z
DTSTART;VALUE=DATE:20101209
DTEND;VALUE=DATE:20101212
TRANSP:TRANSPARENT
PRIORITY:0
SUMMARY:Junior High & Freshman Basketball
LOCATION:Levelland H S
DESCRIPTION:9th Grade at Levelland Tournament\n\nSetup: TBD\nBreakdown: TB
 D\n\nDepart: TBD\nReturn: TBD\n\nGroups:\nLittlefield High School Basketba
 ll Girls Freshmen\nLittlefield High School Basketball Boys Freshmen\n\nSch
 ools:\nLittlefield High School\n\nLocation:\nLevelland H S\n\n
URL;VALUE=URI:https://littlefieldisd.tandem.co/index.php?type=view&action=
 event&id=1656
CREATED:20100901T190101Z
LAST-MODIFIED:20100901T190101Z
UID:event-1656-littlefieldisd@intand.com
END:VEVENT
END:VCALENDAR
