BEGIN:VCALENDAR
VERSION:2.0
PRODID:-//Intand Corporation//Tandem//EN
METHOD:PUBLISH
BEGIN:VEVENT
DTSTAMP:20260420T232726Z
DTSTART;VALUE=DATE:20110113
DTEND;VALUE=DATE:20110116
TRANSP:TRANSPARENT
PRIORITY:0
SUMMARY:Junior High & Freshman Basketball
LOCATION:Levelland Middle School
DESCRIPTION:7th & 8th At Levelland Tournament\n\nSetup: TBD\nBreakdown: TB
 D\n\nDepart: TBD\nReturn: TBD\n\nGroups:\nLittlefield Junior High Basketba
 ll Girls 7th Grade\nLittlefield Junior High Basketball Girls 8th Grade\nLi
 ttlefield Junior High Basketball Boys 7th Grade\nLittlefield Junior High B
 asketball Boys 8th Grade\n\nSchools:\nLittlefield Junior High\n\nLocation:
 \nLevelland Middle School\n\n
URL;VALUE=URI:https://littlefieldisd.tandem.co/index.php?type=view&action=
 event&id=1661
CREATED:20100901T190719Z
LAST-MODIFIED:20100901T190719Z
UID:event-1661-littlefieldisd@intand.com
END:VEVENT
END:VCALENDAR
