BEGIN:VCALENDAR
VERSION:2.0
PRODID:-//Intand Corporation//Tandem//EN
METHOD:PUBLISH
BEGIN:VEVENT
DTSTAMP:20260420T232437Z
DTSTART:20110329T213000Z
DTEND:20110329T233000Z
TRANSP:TRANSPARENT
PRIORITY:0
SUMMARY:Varsity Baseball
LOCATION:Idalou H S
DESCRIPTION:at Idalou *District\n\nGroups:\nLittlefield High School Baseba
 ll Boys Varsity\n\nSchools:\nLittlefield High School\n\nLocation:\nIdalou 
 H S\n\n
URL;VALUE=URI:https://littlefieldisd.tandem.co/index.php?type=view&action=
 event&id=1840
CREATED:20110105T163722Z
LAST-MODIFIED:20110216T200849Z
UID:event-1840-littlefieldisd@intand.com
END:VEVENT
END:VCALENDAR
