BEGIN:VCALENDAR
VERSION:2.0
PRODID:-//Intand Corporation//Tandem//EN
METHOD:PUBLISH
BEGIN:VEVENT
DTSTAMP:20260420T232500Z
DTSTART:20110223T013000Z
DTEND:20110223T033000Z
TRANSP:TRANSPARENT
PRIORITY:0
SUMMARY:J.V. Baseball
LOCATION:Littlefield Baseball Field
DESCRIPTION:vs Slaton\n\nGroups:\nLittlefield High School Baseball Boys JV
 \n\nSchools:\nLittlefield High School\n\nLocation:\nLittlefield Baseball F
 ield\n\n
URL;VALUE=URI:https://littlefieldisd.tandem.co/index.php?type=view&action=
 event&id=1855
CREATED:20110105T170941Z
LAST-MODIFIED:20110105T170941Z
UID:event-1855-littlefieldisd@intand.com
END:VEVENT
END:VCALENDAR
