BEGIN:VCALENDAR
VERSION:2.0
PRODID:-//Intand Corporation//Tandem//EN
METHOD:PUBLISH
BEGIN:VEVENT
DTSTAMP:20260420T232550Z
DTSTART:20110319T193000Z
DTEND:20110319T213000Z
TRANSP:TRANSPARENT
PRIORITY:0
SUMMARY:J.V. Baseball
LOCATION:Littlefield Baseball Field
DESCRIPTION:vs Dimmitt\n*District\n\nGroups:\nLittlefield High School Base
 ball Boys JV\n\nSchools:\nLittlefield High School\n\nLocation:\nLittlefiel
 d Baseball Field\n\n
URL;VALUE=URI:https://littlefieldisd.tandem.co/index.php?type=view&action=
 event&id=1859
CREATED:20110105T171238Z
LAST-MODIFIED:20110105T171238Z
UID:event-1859-littlefieldisd@intand.com
END:VEVENT
END:VCALENDAR
