BEGIN:VCALENDAR
VERSION:2.0
PRODID:-//Intand Corporation//Tandem//EN
METHOD:PUBLISH
BEGIN:VEVENT
DTSTAMP:20260420T232336Z
DTSTART:20111015T003000Z
DTEND:20111015T030000Z
TRANSP:TRANSPARENT
PRIORITY:0
SUMMARY:Varsity Football
LOCATION:Littlefield Wildcat Stadium
DESCRIPTION:vs. Bushland\n*District\n\nGroups:\nLittlefield High School Ba
 nd\nLittlefield High School Varsity Cheer\nLittlefield High School Footbal
 l Varsity\n\nSchools:\nLittlefield High School\n\nLocation:\nLittlefield W
 ildcat Stadium\n\n
URL;VALUE=URI:https://littlefieldisd.tandem.co/index.php?type=view&action=
 event&id=1897
CREATED:20110126T193624Z
LAST-MODIFIED:20110126T193624Z
UID:event-1897-littlefieldisd@intand.com
END:VEVENT
END:VCALENDAR
