BEGIN:VCALENDAR
VERSION:2.0
PRODID:-//Intand Corporation//Tandem//EN
METHOD:PUBLISH
BEGIN:VEVENT
DTSTAMP:20260420T232418Z
DTSTART:20111029T003000Z
DTEND:20111029T030000Z
TRANSP:TRANSPARENT
PRIORITY:0
SUMMARY:Varsity Football
LOCATION:Littlefield Wildcat Stadium
DESCRIPTION:vs. Friona\n*District\n\nGroups:\nLittlefield High School Band
 \nLittlefield High School Varsity Cheer\nLittlefield High School Football 
 Varsity\n\nSchools:\nLittlefield High School\n\nLocation:\nLittlefield Wil
 dcat Stadium\n\n
URL;VALUE=URI:https://littlefieldisd.tandem.co/index.php?type=view&action=
 event&id=1899
CREATED:20110126T193756Z
LAST-MODIFIED:20110126T193756Z
UID:event-1899-littlefieldisd@intand.com
END:VEVENT
END:VCALENDAR
