BEGIN:VCALENDAR
VERSION:2.0
PRODID:-//Intand Corporation//Tandem//EN
METHOD:PUBLISH
BEGIN:VEVENT
DTSTAMP:20260420T232550Z
DTSTART:20110908T220000Z
DTEND:20110909T010000Z
TRANSP:TRANSPARENT
PRIORITY:0
SUMMARY:9th & JV Football
LOCATION:Shallowater H S
DESCRIPTION:at Shallowater\n\nGroups:\nLittlefield High School Football Fr
 eshman\nLittlefield High School J.V. Cheer\nLittlefield High School Footba
 ll JV\n\nSchools:\nLittlefield High School\n\nLocation:\nShallowater H S\n
 \n
URL;VALUE=URI:https://littlefieldisd.tandem.co/index.php?type=view&action=
 event&id=1904
CREATED:20110126T194841Z
LAST-MODIFIED:20110126T194841Z
UID:event-1904-littlefieldisd@intand.com
END:VEVENT
END:VCALENDAR
