BEGIN:VCALENDAR
VERSION:2.0
PRODID:-//Intand Corporation//Tandem//EN
METHOD:PUBLISH
BEGIN:VEVENT
DTSTAMP:20260420T232654Z
DTSTART:20111027T220000Z
DTEND:20111028T010000Z
TRANSP:TRANSPARENT
PRIORITY:0
SUMMARY:9th & JV Football
LOCATION:Friona H S
DESCRIPTION:at Friona\n\nGroups:\nLittlefield High School Football Freshma
 n\nLittlefield High School J.V. Cheer\nLittlefield High School Football JV
 \n\nSchools:\nLittlefield High School\n\nLocation:\nFriona H S\n\n
URL;VALUE=URI:https://littlefieldisd.tandem.co/index.php?type=view&action=
 event&id=1910
CREATED:20110126T195358Z
LAST-MODIFIED:20110126T195358Z
UID:event-1910-littlefieldisd@intand.com
END:VEVENT
END:VCALENDAR
