BEGIN:VCALENDAR
VERSION:2.0
PRODID:-//Intand Corporation//Tandem//EN
METHOD:PUBLISH
BEGIN:VEVENT
DTSTAMP:20260420T232713Z
DTSTART;VALUE=DATE:20110321
DTEND;VALUE=DATE:20110322
TRANSP:TRANSPARENT
PRIORITY:0
SUMMARY:Varsity Girls Golf @ Olton
LOCATION:Olton H S
DESCRIPTION:Groups:\nLittlefield High School Golf Girls JV\nLittlefield Hi
 gh School Golf Girls Varsity\n\nSchools:\nLittlefield High School\n\nLocat
 ion:\nOlton H S\n\n
URL;VALUE=URI:https://littlefieldisd.tandem.co/index.php?type=view&action=
 event&id=1926
CREATED:20110127T153914Z
LAST-MODIFIED:20110127T153914Z
UID:event-1926-littlefieldisd@intand.com
END:VEVENT
END:VCALENDAR
