BEGIN:VCALENDAR
VERSION:2.0
PRODID:-//Intand Corporation//Tandem//EN
METHOD:PUBLISH
BEGIN:VEVENT
DTSTAMP:20260420T232551Z
DTSTART;VALUE=DATE:20110404
DTEND;VALUE=DATE:20110405
TRANSP:TRANSPARENT
PRIORITY:0
SUMMARY:Varsity Girls Golf District @ Tulia
LOCATION:Tulia H S
DESCRIPTION:Groups:\nLittlefield High School Golf Girls JV\nLittlefield Hi
 gh School Golf Girls Varsity\n\nSchools:\nLittlefield High School\n\nLocat
 ion:\nTulia H S\n\n
URL;VALUE=URI:https://littlefieldisd.tandem.co/index.php?type=view&action=
 event&id=1930
CREATED:20110127T154323Z
LAST-MODIFIED:20110127T154323Z
UID:event-1930-littlefieldisd@intand.com
END:VEVENT
END:VCALENDAR
